Workbook
Name Liste_Supplier: _xlfn.ANCHORARRAY(BASE_TECH!$N$1)
Name ListeDynamique: BASE_TECH!$E$1
Name ListeFamilles: BASE_TECH!$A:$A
Name ListeSousfamilles: BASE_TECH!$B:$B
Name MaListeRef: _xlfn.ANCHORARRAY(BASE_TECH!$O$1)
Name MaListeSousFamille: _xlfn.ANCHORARRAY(BASE_TECH!$E$1)
Name TYPE: TabFournisseurs[TYPE]

Sheet FICHE PRODUIT
A2: TEMPLATE | N2: Priority | S2: W26-27
A4: Dernière MAJ | S4: In development
A6: Photo | C6: COMMENT | D6: Page | E6: 14 | H6: STOCK date
D7: SAMPLE | H7: VENTE last saison
D8: Production
D9: Color Recipe
D10: Shooting fait | E10: FALSE | H10: TOTAL | I10: 48 | J10: 50 | K10: 52 | L10: 54 | M10: 56 | N10: 58 | O10: 60 | P10: 62 | Q10: 64
H11: =SUM(I11:Q11) -> 0 | R11: Order date
D12: Famille | H12: =SUM(I12:Q12) -> 0
D13: Sous-famille | H13: =SUM(I13:Q13) -> 0
H14: =SUM(I14:Q14) -> 0
D15: Production cost | H15: =SUM(I15:Q15) -> 0
D16: Fabric cost | E16: =SUM(G29:G43) -> 2.5 | H16: =SUM(I16:Q16) -> 0
H17: =SUM(I17:Q17) -> 0
D18: Total Price | E18: =SUM(E15:E16) -> 2.5 | H18: =SUM(I18:Q18) -> 0
D19: Margin | E19: =SUM(E21/E18) -> 0 | G19: Production | H19: 0
G20: Reassort | H20: 0
D21: Price TTC | H21: =SUM(H19:H20) -> 0 | I21: =SUM(I11:I18) -> 0 | J21: =SUM(J11:J18) -> 0 | K21: =SUM(K11:K18) -> 0 | L21: =SUM(L11:L18) -> 0 | M21: =SUM(M11:M18) -> 0 | N21: =SUM(N11:N18) -> 0 | O21: =SUM(O11:O18) -> 0 | P21: =SUM(P11:P18) -> 0 | Q21: =SUM(Q11:Q18) -> 0
D22: Price B2B 2,5 | E22: =SUM(E21/2.5) -> 0 | H22: TOTAL | I22: 48 | J22: 50 | K22: 52 | L22: 54 | M22: 56 | N22: 58 | O22: 60 | P22: 62 | Q22: 64
D23: Price B2B 2,2 | E23: =SUM(E21/2.2) -> 0
A24: Update price for Fastmag
A25: Update website
A27: Nadejda in BLUE - Lise in PURPLE
A28: Type | B28: Supplier | C28: REF PRODUCT | D28: Need | E28: Total need | F28: Cost / per m | G28: Cost product | H28: Total cost prod | I28: Last update
E29: =D29*H21 -> 0 | F29: {=IFERROR(_xlfn.XLOOKUP(1,(TabFournisseurs[TYPE]=A29)*(TabFournisseurs[SUPPLIER2]=B29)*(TabFournisseurs[REF PRODUCT]=C29),TabFournisseurs[Cost / per m]),0)} -> 0 | G29: =F29*D29 -> 0 | H29: =G29*H21 -> 0
E30: =D30*H21 -> 0 | F30: {=IFERROR(_xlfn.XLOOKUP(1,(TabFournisseurs[TYPE]=A30)*(TabFournisseurs[SUPPLIER2]=B30)*(TabFournisseurs[REF PRODUCT]=C30),TabFournisseurs[Cost / per m]),0)} -> 0 | G30: =F30*D30 -> 0 | H30: =G30*H21 -> 0
E31: =D31*H21 -> 0 | F31: {=IFERROR(_xlfn.XLOOKUP(1,(TabFournisseurs[TYPE]=A31)*(TabFournisseurs[SUPPLIER2]=B31)*(TabFournisseurs[REF PRODUCT]=C31),TabFournisseurs[Cost / per m]),0)} -> 0 | G31: =F31*D31 -> 0 | H31: =G31*H21 -> 0
E32: =D32*H21 -> 0 | F32: {=IFERROR(_xlfn.XLOOKUP(1,(TabFournisseurs[TYPE]=A32)*(TabFournisseurs[SUPPLIER2]=B32)*(TabFournisseurs[REF PRODUCT]=C32),TabFournisseurs[Cost / per m]),0)} -> 0 | G32: =F32*D32 -> 0 | H32: =G32*H21 -> 0
E33: =D33*H21 -> 0 | F33: {=IFERROR(_xlfn.XLOOKUP(1,(TabFournisseurs[TYPE]=A33)*(TabFournisseurs[SUPPLIER2]=B33)*(TabFournisseurs[REF PRODUCT]=C33),TabFournisseurs[Cost / per m]),0)} -> 0 | G33: =F33*D33 -> 0 | H33: =G33*H21 -> 0
E34: =D34*H21 -> 0 | F34: {=IFERROR(_xlfn.XLOOKUP(1,(TabFournisseurs[TYPE]=A34)*(TabFournisseurs[SUPPLIER2]=B34)*(TabFournisseurs[REF PRODUCT]=C34),TabFournisseurs[Cost / per m]),0)} -> 0 | G34: =F34*D34 -> 0 | H34: =G34*H21 -> 0
E35: =D35*H21 -> 0 | F35: {=IFERROR(_xlfn.XLOOKUP(1,(TabFournisseurs[TYPE]=A35)*(TabFournisseurs[SUPPLIER2]=B35)*(TabFournisseurs[REF PRODUCT]=C35),TabFournisseurs[Cost / per m]),0)} -> 0 | G35: =F35*D35 -> 0 | H35: =G35*H21 -> 0
E36: =D36*H21 -> 0 | F36: {=IFERROR(_xlfn.XLOOKUP(1,(TabFournisseurs[TYPE]=A36)*(TabFournisseurs[SUPPLIER2]=B36)*(TabFournisseurs[REF PRODUCT]=C36),TabFournisseurs[Cost / per m]),0)} -> 0 | G36: =F36*D36 -> 0 | H36: =G36*H21 -> 0
E37: =D37*H21 -> 0 | F37: {=IFERROR(_xlfn.XLOOKUP(1,(TabFournisseurs[TYPE]=A37)*(TabFournisseurs[SUPPLIER2]=B37)*(TabFournisseurs[REF PRODUCT]=C37),TabFournisseurs[Cost / per m]),0)} -> 0 | G37: =F37*D37 -> 0 | H37: =G37*H21 -> 0
E38: =D38*H21 -> 0 | F38: {=IFERROR(_xlfn.XLOOKUP(1,(TabFournisseurs[TYPE]=A38)*(TabFournisseurs[SUPPLIER2]=B38)*(TabFournisseurs[REF PRODUCT]=C38),TabFournisseurs[Cost / per m]),0)} -> 0 | G38: =F38*D38 -> 0 | H38: =G38*H21 -> 0
E39: =D39*H21 -> 0 | F39: {=IFERROR(_xlfn.XLOOKUP(1,(TabFournisseurs[TYPE]=A39)*(TabFournisseurs[SUPPLIER2]=B39)*(TabFournisseurs[REF PRODUCT]=C39),TabFournisseurs[Cost / per m]),0)} -> 0 | G39: =F39*D39 -> 0 | H39: =G39*H21 -> 0
E40: =D40*H21 -> 0 | F40: {=IFERROR(_xlfn.XLOOKUP(1,(TabFournisseurs[TYPE]=A40)*(TabFournisseurs[SUPPLIER2]=B40)*(TabFournisseurs[REF PRODUCT]=C40),TabFournisseurs[Cost / per m]),0)} -> 0 | G40: =F40*D40 -> 0 | H40: =G40*H21 -> 0
A41: Frais externe | B41: Classwash | E41: =D41*H21 -> 0 | F41: {=IFERROR(_xlfn.XLOOKUP(1,(TabFournisseurs[TYPE]=A41)*(TabFournisseurs[SUPPLIER2]=B41)*(TabFournisseurs[REF PRODUCT]=C41),TabFournisseurs[Cost / per m]),0)} -> 0 | G41: =F41*D41 -> 0 | H41: =G41*H21 -> 0
A42: Frais externe | B42: Transport | C42: Européen | D42: 1 | E42: =D42*H21 -> 0 | F42: {=IFERROR(_xlfn.XLOOKUP(1,(TabFournisseurs[TYPE]=A42)*(TabFournisseurs[SUPPLIER2]=B42)*(TabFournisseurs[REF PRODUCT]=C42),TabFournisseurs[Cost / per m]),0)} -> 2 | G42: =F42*D42 -> 2 | H42: =G42*H21 -> 0
A43: Frais externe | B43: Communication | C43: Marketing | D43: 1 | E43: =D43*H21 -> 0 | F43: {=IFERROR(_xlfn.XLOOKUP(1,(TabFournisseurs[TYPE]=A43)*(TabFournisseurs[SUPPLIER2]=B43)*(TabFournisseurs[REF PRODUCT]=C43),TabFournisseurs[Cost / per m]),0)} -> 0.5 | G43: =F43*D43 -> 0.5 | H43: =G43*H21 -> 0
A45: MARIUS BROWN | H45: Brown | N45: Priority | Q45: +++ | S45: W26-27
...

Sheet PRIO PROD
A1: STATUT | B1: WAIT QUANTITY
A3: Étiquettes de lignes | B3: Somme de PRIORITY
A4: 0 | B4: 0
A5: COOL PANTS 2 ECRU | B5: 0
A6: COOL PANTS 2 W | B6: 0
A7: COOL PANTS VELOURS | B7: 0
A8: DANDY GDS4015 | B8: 0
A9: DANDY GDW2015 | B9: 0
A10: LOUISIANE COTON | B10: 0
A11: LOUISIANE DENIM | B11: 0
A12: MARIUS CHEVRON F149 | B12: 0
A13: MARIUS CHEVRON FX9 | B13: 0
A14: MARIUS PKT3 GPW3003 | B14: 0
A15: MARIUS POCKET F89 | B15: 0
A16: PECK POCKET | B16: 0
... A23: Total général | B23: 0

Sheet MAJ PRICE
A1: STATUT | B1: (Tous)
A3: Étiquettes de lignes | B3: TTC | C3: B2B 2,2 | D3: B2B 2,5
A4: 46151 | B4: 325 | C4: 147.72727 | D4: 130
A5: DANDY GDW4006 | B5: 325 | C5: 147.72727 | D5: 130
A6: 46157 | B6: 245 | C6: 111.36364 | D6: 98
A7: LOUISIANE COTON | B7: 245 | C7: 111.36364 | D7: 98
A8: 46162 | B8: 269 | C8: 122.27273 | D8: 107.6
A9: DANDY GDW2015 | B9: 295 | C9: 134.09091 | D9: 118
A10: DANDY GDW4006 | B10: 325 | C10: 147.72727 | D10: 130
A11: MARIUS PDG W | B11: 325 | C11: 147.72727 | D11: 130
A12: MARIUS PDP W | B12: 315 | C12: 143.18182 | D12: 126
A13: MARIUS PKT PDG W | B13: 325 | C13: 147.72727 | D13: 130
A14: MARIUS PKT-GPW0021C | B14: 295 | C14: 134.09091 | D14: 118
A15: MARIUS PKT3 GPW3003 | B15: 295 | C15: 134.09091 | D15: 118
A16: MARIUS POCKET F79 | B16: 295 | C16: 134.09091 | D16: 118
A17: MARIUS POCKET F89 | B17: 295 | C17: 134.09091 | D17: 118
A18: MARIUS POCKET F99 | B18: 295 | C18: 134.09091 | D18: 118
A19: MARIUS POCKET FX28 | B19: 295 | C19: 134.09091 | D19: 118
A20: PECK VELOUR | B20: 269 | C20: 122.27273 | D20: 107.6
... A26: MARIUS CHALE DENIM | B26: 315 | C26: 143.18182 | D26: 126
A27: 46163 | B27: 465 | C27: 211.36364 | D27: 186
A28: KINGSMAN | B28: 495 | C28: 225 | D28: 198
A29: HABANO W | B29: 465 | C29: 211.36364 | D29: 186
A30: SLACK X DENIM | B30: 595 | C30: 270.45455 | D30: 238
A31: SLACK X CANEVAS | B31: 535 | C31: 243.18182 | D31: 214
A32: Total général | B32: 245 | C32: 111.36364 | D32: 98

Sheet MATIERE PREMIERE
A1: STATUT | B1: (Plusieurs éléments)
A2: Type | B2: (Tous)
A4: Étiquettes de lignes | B4: Somme de Total need | C4: Somme de Total cost prod
A5: 0 | B5: 935 | C5: 9225
A6: ? | B6: 0 | C6: 0
A7: ACM | B7: 107.6 | C7: 807
A8: ALBANO MORGADO | B8: 874.52 | C8: 12258.234
A9: AMBASSADOR | B9: 163 | C9: 287.68
A10: FAUX SUEDE PECAN | B10: 116.6 | C10: 0
A11: SLACK IVY BROWN | B11: 116.6 | C11: 0
A12: SUE225PEC - FAUX SUEDE PECAN | B12: 46.4 | C12: 287.68
A13: MARIUS BROWN | B13: 46.4 | C13: 287.68
A14: SUE225STR - FAUX SUEDE STARW | B14: 0 | C14: 0
A15: MARIUS BROWN | B15: 0 | C15: 0
A16: SUE225NAV - FAUX SUEDE NAVY | B16: 0 | C16: 0
A17: MARIUS BLUE | B17: 0 | C17: 0
... A29: ARMY ==> RECUPERER INFOS SUMMER | B29: 1035 | C29: 0
A30: 0 | B30: 1035 | C30: 0
A31: BT Brown 1 | B31: 29 | C31: 1.45
A32: BT White 2 - CZL0092 SIZE 24 | B32: 0 | C32: 0
A33: BT1 | B33: 10745 | C33: 644.7
A34: BT2 | B34: 3437 | C34: 446.81
A35: BT4 - 387 SIZE 14 COL 51 | B35: 0 | C35: 0
A36: ESPIGAO 1 - 387SIZE 9 COL 5 ESPIGÃO | B36: 0 | C36: 0
A37: Loop 1 | B37: 0 | C37: 0
A38: MALLALEUS | B38: 24 | C38: 451.2
A39: MARZOTTO | B39: 20.35 | C39: 455.84
A40: MDA | B40: 140.8 | C40: 1254.528
A41: MOON | B41: 26 | C41: 577.2
A42: MYZIP | B42: 188 | C42: 0
... A58: Total général | B58: 30995.12 | C58: 65328.136

Sheet COÛT MOYEN DE PROD
A1: STATUT | B1: (Tous)
A3: Étiquettes de lignes | B3: Moyenne de PRODUCTION COST
A4: 0 | B4: 0
A5: Pièce à manche | B5: 107
A6: Blazers | B6: 91.113636
A7: Gilet | B7: 52.033582
A8: Pantalon | B8: 47
A9: Pièce à manche | B9: 78.24
A10: Surchemise | B10: 80
A11: (vide)
A12: #REF! | B12: #REF!
A13: Chemise | B13: 0
A14: Total général | B14: #REF!

Sheet PROTO
A1: SAMPLE | B1: TO DO
A3: Étiquettes de lignes | B3: Somme de PRIORITY
A4: ANTONIO AMADEU | B4: 0
A5: REPORT / CANCEL | B5: 0
A6: EASY SLACK | B6: 0
A7: Beige | B7: 0
A8: Kaki | B8: 0
A9: Navy | B9: 0
A10: OCEAN SURPLUS | B10: #REF!
A11: In development | B11: 0
A12: PROTO | B12: 0
A13: REPORT / CANCEL | B13: #REF!
A14: MARIUS PATCH | B14: 0
A15: 0 | B15: 0
A16: SLACK IVY PDG W | B16: 0
A17: Brown | B17: 0
A18: SLACK IVY VIW3005 | B18: 0
A19: Camel | B19: 0
A20: SLACK PKT PDG W | B20: 0
A21: Brown | B21: 0
A22: SLACK X HBT | B22: 0
A23: 0 | B23: 0
A24: #REF! | B24: #REF!
A25: #REF! | B25: #REF!
A26: PILOT - col 3 | B26: 0
A27: 0 | B27: 0
A28: MARIUS PATCH | B28: 0
A29: 0 | B29: 0
A30: IN PRODUCTION | B30: 0
A31: ARMY ==> RECUPERER INFOS SUMMER | B31: 0
A32: 0 | B32: 0
A33: VALYS JEANS | B33: 0
A34: PROTO | B34: 0
A35: 0 | B35: 0
A36: PROTO | B36: 0
A37: Total général | B37: #REF!

Sheet DATTA BASE
A1: REF | B1: COULEUR | C1: SAISON | D1: PRIORITY | E1: STATUT | F1: PAGE | G1: SAMPLE | H1: PRODUCTION | I1: SHOOTING | J1: FAMILLE | K1: SOUS-FAMILLE | L1: PRODUCTION COST | M1: FAVRIC COST | N1: TOTAL PRICE | O1: MARGE | P1: PRIX TTC | Q1: Price B2B 2,5 | R1: Price B2B 2,2 | S1: DATE MAJ PRIX | T1: Type | U1: Supplier | V1: REF PRODUCT | W1: Need | X1: Total need | Y1: Cost / per m | Z1: Cost product | AA1: Total cost prod
A2: ='FICHE PRODUIT'!$A$45 -> MARIUS BROWN | B2: ='FICHE PRODUIT'!$H$45 -> Brown | C2: ='FICHE PRODUIT'!$S$45 -> W26-27 | D2: ='FICHE PRODUIT'!$Q$45 -> +++ | E2: ='FICHE PRODUIT'!$S$47 -> IN PRODUCTION | F2: ='FICHE PRODUIT'!E49 -> Page 11 | G2: ='FICHE PRODUIT'!$E$50 -> Not need | H2: ='FICHE PRODUIT'!$E$51 -> OCEAN SURPLUS | I2: ='FICHE PRODUIT'!$E$53 -> FALSE | J2: ='FICHE PRODUIT'!$E$55 -> Gilet | K2: ='FICHE PRODUIT'!$E$56 -> Marius | L2: ='FICHE PRODUIT'!$E$58 -> 55 | M2: ='FICHE PRODUIT'!$E$59 -> 16.6465 | N2: ='FICHE PRODUIT'!$E$61 -> 71.6465 | O2: ='FICHE PRODUIT'!$E$62 -> 4.396586 | P2: ='FICHE PRODUIT'!$E$64 -> 315 | Q2: ='FICHE PRODUIT'!$E$65 -> 126 | R2: ='FICHE PRODUIT'!$E$66 -> 143.18182 | S2: ='FICHE PRODUIT'!$E$67 -> 0 | T2: ='FICHE PRODUIT'!A72 -> FABRIC | U2: ='FICHE PRODUIT'!B72 -> AMBASSADOR | V2: ='FICHE PRODUIT'!C72 -> SUE225PEC - FAUX SUEDE PECAN | W2: ='FICHE PRODUIT'!D72 -> 0.8 | X2: ='FICHE PRODUIT'!E72 -> 46.4 | Y2: ='FICHE PRODUIT'!F72 -> 6.2 | Z2: ='FICHE PRODUIT'!G72 -> 4.96 | AA2: ='FICHE PRODUIT'!H72 -> 287.68
A3: ='FICHE PRODUIT'!$A$45 -> MARIUS BROWN | B3: ='FICHE PRODUIT'!$H$45 -> Brown | C3: ='FICHE PRODUIT'!$S$45 -> W26-27 | D3: ='FICHE PRODUIT'!$Q$45 -> +++ | E3: ='FICHE PRODUIT'!$S$47 -> IN PRODUCTION | F3: ='FICHE PRODUIT'!E49 -> Page 11 | G3: ='FICHE PRODUIT'!$E$50 -> Not need | H3: ='FICHE PRODUIT'!$E$51 -> OCEAN SURPLUS | I3: ='FICHE PRODUIT'!$E$53 -> FALSE | J3: ='FICHE PRODUIT'!$E$55 -> Gilet | K3: ='FICHE PRODUIT'!$E$56 -> Marius | L3: ='FICHE PRODUIT'!$E$58 -> 55 | M3: ='FICHE PRODUIT'!$E$59 -> 16.6465 | N3: ='FICHE PRODUIT'!$E$61 -> 71.6465 | O3: ='FICHE PRODUIT'!$E$62 -> 4.396586 | P3: ='FICHE PRODUIT'!$E$64 -> 315 | Q3: ='FICHE PRODUIT'!$E$65 -> 126 | R3: ='FICHE PRODUIT'!$E$66 -> 143.18182 | S3: ='FICHE PRODUIT'!$E$67 -> 0 | T3: ='FICHE PRODUIT'!A73 -> LINNING | U3: ='FICHE PRODUIT'!B73 -> TABEL | V3: ='FICHE PRODUIT'!C73 -> Dessin Camo - Fleurs Rouge | W3: ='FICHE PRODUIT'!D73 -> 0.35 | X3: ='FICHE PRODUIT'!E73 -> 20.3 | Y3: ='FICHE PRODUIT'!F73 -> 3.95 | Z3: ='FICHE PRODUIT'!G73 -> 1.3825 | AA3: ='FICHE PRODUIT'!H73 -> 80.185
A4: ='FICHE PRODUIT'!$A$45 -> MARIUS BROWN | B4: ='FICHE PRODUIT'!$H$45 -> Brown | C4: ='FICHE PRODUIT'!$S$45 -> W26-27 | D4: ='FICHE PRODUIT'!$Q$45 -> +++ | E4: ='FICHE PRODUIT'!$S$47 -> IN PRODUCTION | F4: ='FICHE PRODUIT'!$E$49 -> Page 11 | G4: ='FICHE PRODUIT'!$E$50 -> Not need | H4: ='FICHE PRODUIT'!$E$51 -> OCEAN SURPLUS | I4: ='FICHE PRODUIT'!$E$53 -> FALSE | J4: ='FICHE PRODUIT'!$E$55 -> Gilet | K4: ='FICHE PRODUIT'!$E$56 -> Marius | L4: ='FICHE PRODUIT'!$E$58 -> 55 | M4: ='FICHE PRODUIT'!$E$59 -> 16.6465 | N4: ='FICHE PRODUIT'!$E$61 -> 71.6465 | O4: ='FICHE PRODUIT'!$E$62 -> 4.396586 | P4: ='FICHE PRODUIT'!$E$64 -> 315 | Q4: ='FICHE PRODUIT'!$E$65 -> 126 | R4: ='FICHE PRODUIT'!$E$66 -> 143.18182 | S4: ='FICHE PRODUIT'!$E$67 -> 0 | T4: ='FICHE PRODUIT'!A74 -> BACK | U4: ='FICHE PRODUIT'!B74 -> MDA | V4: ='FICHE PRODUIT'!C74 -> 2179 PPT / COL CW27742 | W4: ='FICHE PRODUIT'!D74 -> 0.4 | X4: ='FICHE PRODUIT'!E74 -> 23.2 | Y4: ='FICHE PRODUIT'!F74 -> 8.91 | Z4: ='FICHE PRODUIT'!G74 -> 3.564 | AA4: ='FICHE PRODUIT'!H74 -> 206.712
A5: ='FICHE PRODUIT'!$A$45 -> MARIUS BROWN | B5: ='FICHE PRODUIT'!$H$45 -> Brown | C5: ='FICHE PRODUIT'!$S$45 -> W26-27 | D5: ='FICHE PRODUIT'!$Q$45 -> +++ | E5: ='FICHE PRODUIT'!$S$47 -> IN PRODUCTION | F5: ='FICHE PRODUIT'!$E$49 -> Page 11 | G5: ='FICHE PRODUIT'!$E$50 -> Not need | H5: ='FICHE PRODUIT'!$E$51 -> OCEAN SURPLUS | I5: ='FICHE PRODUIT'!$E$53 -> FALSE | J5: ='FICHE PRODUIT'!$E$55 -> Gilet | K5: ='FICHE PRODUIT'!$E$56 -> Marius | L5: ='FICHE PRODUIT'!$E$58 -> 55 | M5: ='FICHE PRODUIT'!$E$59 -> 16.6465 | N5: ='FICHE PRODUIT'!$E$61 -> 71.6465 | O5: ='FICHE PRODUIT'!$E$62 -> 4.396586 | P5: ='FICHE PRODUIT'!$E$64 -> 315 | Q5: ='FICHE PRODUIT'!$E$65 -> 126 | R5: ='FICHE PRODUIT'!$E$66 -> 143.18182 | S5: ='FICHE PRODUIT'!$E$67 -> 0 | T5: ='FICHE PRODUIT'!A75 -> INTERLINING | U5: ='FICHE PRODUIT'!B75 -> CHARGEUR | V5: ='FICHE PRODUIT'!C75 -> 713048 PRETA | W5: ='FICHE PRODUIT'!D75 -> 0.8 | X5: ='FICHE PRODUIT'!E75 -> 46.4 | Y5: ='FICHE PRODUIT'!F75 -> 1.35 | Z5: ='FICHE PRODUIT'!G75 -> 1.08 | AA5: ='FICHE PRODUIT'!H75 -> 62.64
A6: ='FICHE PRODUIT'!$A$45 -> MARIUS BROWN | B6: ='FICHE PRODUIT'!$H$45 -> Brown | C6: ='FICHE PRODUIT'!$S$45 -> W26-27 | D6: ='FICHE PRODUIT'!$Q$45 -> +++ | E6: ='FICHE PRODUIT'!$S$47 -> IN PRODUCTION | F6: ='FICHE PRODUIT'!$E$49 -> Page 11 | G6: ='FICHE PRODUIT'!$E$50 -> Not need | H6: ='FICHE PRODUIT'!$E$51 -> OCEAN SURPLUS | I6: ='FICHE PRODUIT'!$E$53 -> FALSE | J6: ='FICHE PRODUIT'!$E$55 -> Gilet | K6: ='FICHE PRODUIT'!$E$56 -> Marius | L6: ='FICHE PRODUIT'!$E$58 -> 55 | M6: ='FICHE PRODUIT'!$E$59 -> 16.6465 | N6: ='FICHE PRODUIT'!$E$61 -> 71.6465 | O6: ='FICHE PRODUIT'!$E$62 -> 4.396586 | P6: ='FICHE PRODUIT'!$E$64 -> 315 | Q6: ='FICHE PRODUIT'!$E$65 -> 126 | R6: ='FICHE PRODUIT'!$E$66 -> 143.18182 | S6: ='FICHE PRODUIT'!$E$67 -> 0 | T6: ='FICHE PRODUIT'!A76 -> UNDER COLLAR | U6: ='FICHE PRODUIT'!B76 -> OFFITEX | V6: ='FICHE PRODUIT'!C76 -> COR 301C/1 | W6: ='FICHE PRODUIT'!D76 -> 0.05 | X6: ='FICHE PRODUIT'!E76 -> 2.9 | Y6: ='FICHE PRODUIT'!F76 -> 0.05 | Z6: ='FICHE PRODUIT'!G76 -> 0.0025 | AA6: ='FICHE PRODUIT'!H76 -> 0.145
A7: ='FICHE PRODUIT'!$A$45 -> MARIUS BROWN | B7: ='FICHE PRODUIT'!$H$45 -> Brown | C7: ='FICHE PRODUIT'!$S$45 -> W26-27 | D7: ='FICHE PRODUIT'!$Q$45 -> +++ | E7: ='FICHE PRODUIT'!$S$47 -> IN PRODUCTION | F7: ='FICHE PRODUIT'!$E$49 -> Page 11 | G7: ='FICHE PRODUIT'!$E$50 -> Not need | H7: ='FICHE PRODUIT'!$E$51 -> OCEAN SURPLUS | I7: ='FICHE PRODUIT'!$E$53 -> FALSE | J7: ='FICHE PRODUIT'!$E$55 -> Gilet | K7: ='FICHE PRODUIT'!$E$56 -> Marius | L7: ='FICHE PRODUIT'!$E$58 -> 55 | M7: ='FICHE PRODUIT'!$E$59 -> 16.6465 | N7: ='FICHE PRODUIT'!$E$61 -> 71.6465 | O7: ='FICHE PRODUIT'!$E$62 -> 4.396586 | P7: ='FICHE PRODUIT'!$E$64 -> 315 | Q7: ='FICHE PRODUIT'!$E$65 -> 126 | R7: ='FICHE PRODUIT'!$E$66 -> 143.18182 | S7: ='FICHE PRODUIT'!$E$67 -> 0 | T7: ='FICHE PRODUIT'!A77 -> PANO DE BOLSO | U7: ='FICHE PRODUIT'!B77 -> DRAGONI | V7: ='FICHE PRODUIT'!C77 -> RAVENNA PXT | W7: ='FICHE PRODUIT'!D77 -> 0.05 | X7: ='FICHE PRODUIT'!E77 -> 2.9 | Y7: ='FICHE PRODUIT'!F77 -> 2.97 | Z7: ='FICHE PRODUIT'!G77 -> 0.1485 | AA7: ='FICHE PRODUIT'!H77 -> 8.613
A8: ='FICHE PRODUIT'!$A$45 -> MARIUS BROWN | B8: ='FICHE PRODUIT'!$H$45 -> Brown | C8: ='FICHE PRODUIT'!$S$45 -> W26-27 | D8: ='FICHE PRODUIT'!$Q$45 -> +++ | E8: ='FICHE PRODUIT'!$S$47 -> IN PRODUCTION | F8: ='FICHE PRODUIT'!$E$49 -> Page 11 | G8: ='FICHE PRODUIT'!$E$50 -> Not need | H8: ='FICHE PRODUIT'!$E$51 -> OCEAN SURPLUS | I8: ='FICHE PRODUIT'!$E$53 -> FALSE | J8: ='FICHE PRODUIT'!$E$55 -> Gilet | K8: ='FICHE PRODUIT'!$E$56 -> Marius | L8: ='FICHE PRODUIT'!$E$58 -> 55 | M8: ='FICHE PRODUIT'!$E$59 -> 16.6465 | N8: ='FICHE PRODUIT'!$E$61 -> 71.6465 | O8: ='FICHE PRODUIT'!$E$62 -> 4.396586 | P8: ='FICHE PRODUIT'!$E$64 -> 315 | Q8: ='FICHE PRODUIT'!$E$65 -> 126 | R8: ='FICHE PRODUIT'!$E$66 -> 143.18182 | S8: ='FICHE PRODUIT'!$E$67 -> 0 | T8: ='FICHE PRODUIT'!A78 -> GALON | U8: ='FICHE PRODUIT'!B78 -> NASTRO | V8: ='FICHE PRODUIT'!C78 -> G | W8: ='FICHE PRODUIT'!D78 -> 0.1 | X8: ='FICHE PRODUIT'!E78 -> 5.8 | Y8: ='FICHE PRODUIT'!F78 -> 0.49 | Z8: ='FICHE PRODUIT'!G78 -> 0.049 | AA8: ='FICHE PRODUIT'!H78 -> 2.842
A9: ='FICHE PRODUIT'!$A$45 -> MARIUS BROWN | B9: ='FICHE PRODUIT'!$H$45 -> Brown | C9: ='FICHE PRODUIT'!$S$45 -> W26-27 | D9: ='FICHE PRODUIT'!$Q$45 -> +++ | E9: ='FICHE PRODUIT'!$S$47 -> IN PRODUCTION | F9: ='FICHE PRODUIT'!$E$49 -> Page 11 | G9: ='FICHE PRODUIT'!$E$50 -> Not need | H9: ='FICHE PRODUIT'!$E$51 -> OCEAN SURPLUS | I9: ='FICHE PRODUIT'!$E$53 -> FALSE | J9: ='FICHE PRODUIT'!$E$55 -> Gilet | K9: ='FICHE PRODUIT'!$E$56 -> Marius | L9: ='FICHE PRODUIT'!$E$58 -> 55 | M9: ='FICHE PRODUIT'!$E$59 -> 16.6465 | N9: ='FICHE PRODUIT'!$E$61 -> 71.6465 | O9: ='FICHE PRODUIT'!$E$62 -> 4.396586 | P9: ='FICHE PRODUIT'!$E$64 -> 315 | Q9: ='FICHE PRODUIT'!$E$65 -> 126 | R9: ='FICHE PRODUIT'!$E$66 -> 143.18182 | S9: ='FICHE PRODUIT'!$E$67 -> 0 | T9: ='FICHE PRODUIT'!A79 -> ETIQUETTES | U9: ='FICHE PRODUIT'!B79 -> CADICA | V9: ='FICHE PRODUIT'!C79 -> A3 | W9: ='FICHE PRODUIT'!D79 -> 1 | X9: ='FICHE PRODUIT'!E79 -> 58 | Y9: ='FICHE PRODUIT'!F79 -> 0.27 | Z9: ='FICHE PRODUIT'!G79 -> 0.27 | AA9: ='FICHE PRODUIT'!H79 -> 15.66
A10: ='FICHE PRODUIT'!$A$45 -> MARIUS BROWN | B10: ='FICHE PRODUIT'!$H$45 -> Brown | C10: ='FICHE PRODUIT'!$S$45 -> W26-27 | D10: ='FICHE PRODUIT'!$Q$45 -> +++ | E10: ='FICHE PRODUIT'!$S$47 -> IN PRODUCTION | F10: ='FICHE PRODUIT'!$E$49 -> Page 11 | G10: ='FICHE PRODUIT'!$E$50 -> Not need | H10: ='FICHE PRODUIT'!$E$51 -> OCEAN SURPLUS | I10: ='FICHE PRODUIT'!$E$53 -> FALSE | J10: ='FICHE PRODUIT'!$E$55 -> Gilet | K10: ='FICHE PRODUIT'!$E$56 -> Marius | L10: ='FICHE PRODUIT'!$E$58 -> 55 | M10: ='FICHE PRODUIT'!$E$59 -> 16.6465 | N10: ='FICHE PRODUIT'!$E$61 -> 71.6465 | O10: ='FICHE PRODUIT'!$E$62 -> 4.396586 | P10: ='FICHE PRODUIT'!$E$64 -> 315 | Q10: ='FICHE PRODUIT'!$E$65 -> 126 | R10: ='FICHE PRODUIT'!$E$66 -> 143.18182 | S10: ='FICHE PRODUIT'!$E$67 -> 0 | T10: ='FICHE PRODUIT'!A80 -> HANGTAG | U10: ='FICHE PRODUIT'!B80 -> CADICA | V10: ='FICHE PRODUIT'!C80 -> Y | W10: ='FICHE PRODUIT'!D80 -> 1 | X10: ='FICHE PRODUIT'!E80 -> 58 | Y10: ='FICHE PRODUIT'!F80 -> 0.21 | Z10: ='FICHE PRODUIT'!G80 -> 0.21 | AA10: ='FICHE PRODUIT'!H80 -> 12.18
A11: ='FICHE PRODUIT'!$A$45 -> MARIUS BROWN | B11: ='FICHE PRODUIT'!$H$45 -> Brown | C11: ='FICHE PRODUIT'!$S$45 -> W26-27 | D11: ='FICHE PRODUIT'!$Q$45 -> +++ | E11: ='FICHE PRODUIT'!$S$47 -> IN PRODUCTION | F11: ='FICHE PRODUIT'!$E$49 -> Page 11 | G11: ='FICHE PRODUIT'!$E$50 -> Not need | H11: ='FICHE PRODUIT'!$E$51 -> OCEAN SURPLUS | I11: ='FICHE PRODUIT'!$E$53 -> FALSE | J11: ='FICHE PRODUIT'!$E$55 -> Gilet | K11: ='FICHE PRODUIT'!$E$56 -> Marius | L11: ='FICHE PRODUIT'!$E$58 -> 55 | M11: ='FICHE PRODUIT'!$E$59 -> 16.6465 | N11: ='FICHE PRODUIT'!$E$61 -> 71.6465 | O11: ='FICHE PRODUIT'!$E$62 -> 4.396586 | P11: ='FICHE PRODUIT'!$E$64 -> 315 | Q11: ='FICHE PRODUIT'!$E$65 -> 126 | R11: ='FICHE PRODUIT'!$E$66 -> 143.18182 | S11: ='FICHE PRODUIT'!$E$67 -> 0 | T11: ='FICHE PRODUIT'!A81 -> BOUTONS | U11: ='FICHE PRODUIT'!B81 -> LOUROPEL | V11: ='FICHE PRODUIT'!C81 -> BT1 | W11: ='FICHE PRODUIT'!D81 -> 8 | X11: ='FICHE PRODUIT'!E81 -> 464 | Y11: ='FICHE PRODUIT'!F81 -> 0.06 | Z11: ='FICHE PRODUIT'!G81 -> 0.48 | AA11: ='FICHE PRODUIT'!H81 -> 27.84
A12: ='FICHE PRODUIT'!$A$45 -> MARIUS BROWN | B12: ='FICHE PRODUIT'!$H$45 -> Brown | C12: ='FICHE PRODUIT'!$S$45 -> W26-27 | D12: ='FICHE PRODUIT'!$Q$45 -> +++ | E12: ='FICHE PRODUIT'!$S$47 -> IN PRODUCTION | F12: ='FICHE PRODUIT'!$E$49 -> Page 11 | G12: ='FICHE PRODUIT'!$E$50 -> Not need | H12: ='FICHE PRODUIT'!$E$51 -> OCEAN SURPLUS | I12: ='FICHE PRODUIT'!$E$53 -> FALSE | J12: ='FICHE PRODUIT'!$E$55 -> Gilet | K12: ='FICHE PRODUIT'!$E$56 -> Marius | L12: ='FICHE PRODUIT'!$E$58 -> 55 | M12: ='FICHE PRODUIT'!$E$59 -> 16.6465 | N12: ='FICHE PRODUIT'!$E$61 -> 71.6465 | O12: ='FICHE PRODUIT'!$E$62 -> 4.396586 | P12: ='FICHE PRODUIT'!$E$64 -> 315 | Q12: ='FICHE PRODUIT'!$E$65 -> 126 | R12: ='FICHE PRODUIT'!$E$66 -> 143.18182 | S12: ='FICHE PRODUIT'!$E$67 -> 0 | T12: ='FICHE PRODUIT'!A82 -> 0 | U12: ='FICHE PRODUIT'!B82 -> 0 | V12: ='FICHE PRODUIT'!C82 -> 0 | W12: ='FICHE PRODUIT'!D82 -> 0 | X12: ='FICHE PRODUIT'!E82 -> 0 | Y12: ='FICHE PRODUIT'!F82 -> 0 | Z12: ='FICHE PRODUIT'!G82 -> 0 | AA12: ='FICHE PRODUIT'!H82 -> 0
A13: ='FICHE PRODUIT'!$A$45 -> MARIUS BROWN | B13: ='FICHE PRODUIT'!$H$45 -> Brown | C13: ='FICHE PRODUIT'!$S$45 -> W26-27 | D13: ='FICHE PRODUIT'!$Q$45 -> +++ | E13: ='FICHE PRODUIT'!$S$47 -> IN PRODUCTION | F13: ='FICHE PRODUIT'!$E$49 -> Page 11 | G13: ='FICHE PRODUIT'!$E$50 -> Not need | H13: ='FICHE PRODUIT'!$E$51 -> OCEAN SURPLUS | I13: ='FICHE PRODUIT'!$E$53 -> FALSE | J13: ='FICHE PRODUIT'!$E$55 -> Gilet | K13: ='FICHE PRODUIT'!$E$56 -> Marius | L13: ='FICHE PRODUIT'!$E$58 -> 55 | M13: ='FICHE PRODUIT'!$E$59 -> 16.6465 | N13: ='FICHE PRODUIT'!$E$61 -> 71.6465 | O13: ='FICHE PRODUIT'!$E$62 -> 4.396586 | P13: ='FICHE PRODUIT'!$E$64 -> 315 | Q13: ='FICHE PRODUIT'!$E$65 -> 126 | R13: ='FICHE PRODUIT'!$E$66 -> 143.18182 | S13: ='FICHE PRODUIT'!$E$67 -> 0 | T13: ='FICHE PRODUIT'!A83 -> Frais externe | U13: ='FICHE PRODUIT'!B83 -> Transport | V13: ='FICHE PRODUIT'!C83 -> International | W13: ='FICHE PRODUIT'!D83 -> 1 | X13: ='FICHE PRODUIT'!E83 -> 58 | Y13: ='FICHE PRODUIT'!F83 -> 4 | Z13: ='FICHE PRODUIT'!G83 -> 4 | AA13: ='FICHE PRODUIT'!H83 -> 232
A14: ='FICHE PRODUIT'!$A$45 -> MARIUS BROWN | B14: ='FICHE PRODUIT'!$H$45 -> Brown | C14: ='FICHE PRODUIT'!$S$45 -> W26-27 | D14: ='FICHE PRODUIT'!$Q$45 -> +++ | E14: ='FICHE PRODUIT'!$S$47 -> IN PRODUCTION | F14: ='FICHE PRODUIT'!$E$49 -> Page 11 | G14: ='FICHE PRODUIT'!$E$50 -> Not need | H14: ='FICHE PRODUIT'!$E$51 -> OCEAN SURPLUS | I14: ='FICHE PRODUIT'!$E$53 -> FALSE | J14: ='FICHE PRODUIT'!$E$55 -> Gilet | K14: ='FICHE PRODUIT'!$E$56 -> Marius | L14: ='FICHE PRODUIT'!$E$58 -> 55 | M14: ='FICHE PRODUIT'!$E$59 -> 16.6465 | N14: ='FICHE PRODUIT'!$E$61 -> 71.6465 | O14: ='FICHE PRODUIT'!$E$62 -> 4.396586 | P14: ='FICHE PRODUIT'!$E$64 -> 315 | Q14: ='FICHE PRODUIT'!$E$65 -> 126 | R14: ='FICHE PRODUIT'!$E$66 -> 143.18182 | S14: ='FICHE PRODUIT'!$E$67 -> 0 | T14: ='FICHE PRODUIT'!A84 -> Frais externe | U14: ='FICHE PRODUIT'!B84 -> Communication | V14: ='FICHE PRODUIT'!C84 -> Marketing | W14: ='FICHE PRODUIT'!D84 -> 1 | X14: ='FICHE PRODUIT'!E84 -> 58 | Y14: ='FICHE PRODUIT'!F84 -> 0.5 | Z14: ='FICHE PRODUIT'!G84 -> 0.5 | AA14: ='FICHE PRODUIT'!H84 -> 29
A15: ='FICHE PRODUIT'!$A$86 -> MARIUS BROWN | B15: ='FICHE PRODUIT'!$H$86 -> Straw | C15: ='FICHE PRODUIT'!$S$86 -> W26-27 | D15: ='FICHE PRODUIT'!$Q$86 -> 0 | E15: ='FICHE PRODUIT'!$S$88 -> PROTO | F15: ='FICHE PRODUIT'!$E$90 -> Page 12 | G15: ='FICHE PRODUIT'!$E$91 -> TO DO | H15: ='FICHE PRODUIT'!$E$92 -> OCEAN SURPLUS | I15: ='FICHE PRODUIT'!$E$94 -> FALSE | J15: ='FICHE PRODUIT'!$E$96 -> Gilet | K15: ='FICHE PRODUIT'!$E$97 -> Marius | L15: ='FICHE PRODUIT'!$E$99 -> 55 | M15: ='FICHE PRODUIT'!$E$100 -> 16.6465 | N15: ='FICHE PRODUIT'!$E$102 -> 71.6465 | O15: ='FICHE PRODUIT'!$E$103 -> 4.396586 | P15: ='FICHE PRODUIT'!$E$105 -> 315 | Q15: ='FICHE PRODUIT'!$E$106 -> 126 | R15: ='FICHE PRODUIT'!$E$107 -> 143.18182 | S15: ='FICHE PRODUIT'!$E$108 -> 0 | T15: ='FICHE PRODUIT'!A113 -> FABRIC | U15: ='FICHE PRODUIT'!B113 -> AMBASSADOR | V15: ='FICHE PRODUIT'!C113 -> SUE225STR - FAUX SUEDE STARW | W15: ='FICHE PRODUIT'!D113 -> 0.8 | X15: ='FICHE PRODUIT'!E113 -> 0 | Y15: ='FICHE PRODUIT'!F113 -> 6.2 | Z15: ='FICHE PRODUIT'!G113 -> 4.96 | AA15: ='FICHE PRODUIT'!H113 -> 0
A16: ='FICHE PRODUIT'!$A$86 -> MARIUS BROWN | B16: ='FICHE PRODUIT'!$H$86 -> Straw | C16: ='FICHE PRODUIT'!$S$86 -> W26-27 | D16: ='FICHE PRODUIT'!$Q$86 -> 0 | E16: ='FICHE PRODUIT'!$S$88 -> PROTO | F16: ='FICHE PRODUIT'!$E$90 -> Page 12 | G16: ='FICHE PRODUIT'!$E$91 -> TO DO | H16: ='FICHE PRODUIT'!$E$92 -> OCEAN SURPLUS | I16: ='FICHE PRODUIT'!$E$94 -> FALSE | J16: ='FICHE PRODUIT'!$E$96 -> Gilet | K16: ='FICHE PRODUIT'!$E$97 -> Marius | L16: ='FICHE PRODUIT'!$E$99 -> 55 | M16: ='FICHE PRODUIT'!$E$100 -> 16.6465 | N16: ='FICHE PRODUIT'!$E$102 -> 71.6465 | O16: ='FICHE PRODUIT'!$E$103 -> 4.396586 | P16: ='FICHE PRODUIT'!$E$105 -> 315 | Q16: ='FICHE PRODUIT'!$E$106 -> 126 | R16: ='FICHE PRODUIT'!$E$107 -> 143.18182 | S16: ='FICHE PRODUIT'!$E$108 -> 0 | T16: ='FICHE PRODUIT'!A114 -> LINNING | U16: ='FICHE PRODUIT'!B114 -> TABEL | V16: ='FICHE PRODUIT'!C114 -> Dessin Camo - Fleurs Rouge | W16: ='FICHE PRODUIT'!D114 -> 0.35 | X16: ='FICHE PRODUIT'!E114 -> 0 | Y16: ='FICHE PRODUIT'!F114 -> 3.95 | Z16: ='FICHE PRODUIT'!G114 -> 1.3825 | AA16: ='FICHE PRODUIT'!H114 -> 0
A17: ='FICHE PRODUIT'!$A$86 -> MARIUS BROWN | B17: ='FICHE PRODUIT'!$H$86 -> Straw | C17: ='FICHE PRODUIT'!$S$86 -> W26-27 | D17: ='FICHE PRODUIT'!$Q$86 -> 0 | E17: ='FICHE PRODUIT'!$S$88 -> PROTO | F17: ='FICHE PRODUIT'!$E$90 -> Page 12 | G17: ='FICHE PRODUIT'!$E$91 -> TO DO | H17: ='FICHE PRODUIT'!$E$92 -> OCEAN SURPLUS | I17: ='FICHE PRODUIT'!$E$94 -> FALSE | J17: ='FICHE PRODUIT'!$E$96 -> Gilet | K17: ='FICHE PRODUIT'!$E$97 -> Marius | L17: ='FICHE PRODUIT'!$E$99 -> 55 | M17: ='FICHE PRODUIT'!$E$100 -> 16.6465 | N17: ='FICHE PRODUIT'!$E$102 -> 71.6465 | O17: ='FICHE PRODUIT'!$E$103 -> 4.396586 | P17: ='FICHE PRODUIT'!$E$105 -> 315 | Q17: ='FICHE PRODUIT'!$E$106 -> 126 | R17: ='FICHE PRODUIT'!$E$107 -> 143.18182 | S17: ='FICHE PRODUIT'!$E$108 -> 0 | T17: ='FICHE PRODUIT'!A115 -> BACK | U17: ='FICHE PRODUIT'!B115 -> MDA | V17: ='FICHE PRODUIT'!C115 -> 2179 PPT / COL CW27742 | W17: ='FICHE PRODUIT'!D115 -> 0.4 | X17: ='FICHE PRODUIT'!E115 -> 0 | Y17: ='FICHE PRODUIT'!F115 -> 8.91 | Z17: ='FICHE PRODUIT'!G115 -> 3.564 | AA17: ='FICHE PRODUIT'!H115 -> 0
A18: ='FICHE PRODUIT'!$A$86 -> MARIUS BROWN | B18: ='FICHE PRODUIT'!$H$86 -> Straw | C18: ='FICHE PRODUIT'!$S$86 -> W26-27 | D18: ='FICHE PRODUIT'!$Q$86 -> 0 | E18: ='FICHE PRODUIT'!$S$88 -> PROTO | F18: ='FICHE PRODUIT'!$E$90 -> Page 12 | G18: ='FICHE PRODUIT'!$E$91 -> TO DO | H18: ='FICHE PRODUIT'!$E$92 -> OCEAN SURPLUS | I18: ='FICHE PRODUIT'!$E$94 -> FALSE | J18: ='FICHE PRODUIT'!$E$96 -> Gilet | K18: ='FICHE PRODUIT'!$E$97 -> Marius | L18: ='FICHE PRODUIT'!$E$99 -> 55 | M18: ='FICHE PRODUIT'!$E$100 -> 16.6465 | N18: ='FICHE PRODUIT'!$E$102 -> 71.6465 | O18: ='FICHE PRODUIT'!$E$103 -> 4.396586 | P18: ='FICHE PRODUIT'!$E$105 -> 315 | Q18: ='FICHE PRODUIT'!$E$106 -> 126 | R18: ='FICHE PRODUIT'!$E$107 -> 143.18182 | S18: ='FICHE PRODUIT'!$E$108 -> 0 | T18: ='FICHE PRODUIT'!A116 -> INTERLINING | U18: ='FICHE PRODUIT'!B116 -> CHARGEUR | V18: ='FICHE PRODUIT'!C116 -> 713048 PRETA | W18: ='FICHE PRODUIT'!D116 -> 0.8 | X18: ='FICHE PRODUIT'!E116 -> 0 | Y18: ='FICHE PRODUIT'!F116 -> 1.35 | Z18: ='FICHE PRODUIT'!G116 -> 1.08 | AA18: ='FICHE PRODUIT'!H116 -> 0
A19: ='FICHE PRODUIT'!$A$86 -> MARIUS BROWN | B19: ='FICHE PRODUIT'!$H$86 -> Straw | C19: ='FICHE PRODUIT'!$S$86 -> W26-27 | D19: ='FICHE PRODUIT'!$Q$86 -> 0 | E19: ='FICHE PRODUIT'!$S$88 -> PROTO | F19: ='FICHE PRODUIT'!$E$90 -> Page 12 | G19: ='FICHE PRODUIT'!$E$91 -> TO DO | H19: ='FICHE PRODUIT'!$E$92 -> OCEAN SURPLUS | I19: ='FICHE PRODUIT'!$E$94 -> FALSE | J19: ='FICHE PRODUIT'!$E$96 -> Gilet | K19: ='FICHE PRODUIT'!$E$97 -> Marius | L19: ='FICHE PRODUIT'!$E$99 -> 55 | M19: ='FICHE PRODUIT'!$E$100 -> 16.6465 | N19: ='FICHE PRODUIT'!$E$102 -> 71.6465 | O19: ='FICHE PRODUIT'!$E$103 -> 4.396586 | P19: ='FICHE PRODUIT'!$E$105 -> 315 | Q19: ='FICHE PRODUIT'!$E$106 -> 126 | R19: ='FICHE PRODUIT'!$E$107 -> 143.18182 | S19: ='FICHE PRODUIT'!$E$108 -> 0 | T19: ='FICHE PRODUIT'!A117 -> UNDER COLLAR | U19: ='FICHE PRODUIT'!B117 -> OFFITEX | V19: ='FICHE PRODUIT'!C117 -> COR 301C/1 | W19: ='FICHE PRODUIT'!D117 -> 0.05 | X19: ='FICHE PRODUIT'!E117 -> 0 | Y19: ='FICHE PRODUIT'!F117 -> 0.05 | Z19: ='FICHE PRODUIT'!G117 -> 0.0025 | AA19: ='FICHE PRODUIT'!H117 -> 0
A20: ='FICHE PRODUIT'!$A$86 -> MARIUS BROWN | B20: ='FICHE PRODUIT'!$H$86 -> Straw | C20: ='FICHE PRODUIT'!$S$86 -> W26-27 | D20: ='FICHE PRODUIT'!$Q$86 -> 0 | E20: ='FICHE PRODUIT'!$S$88 -> PROTO | F20: ='FICHE PRODUIT'!$E$90 -> Page 12 | G20: ='FICHE PRODUIT'!$E$91 -> TO DO | H20: ='FICHE PRODUIT'!$E$92 -> OCEAN SURPLUS | I20: ='FICHE PRODUIT'!$E$94 -> FALSE | J20: ='FICHE PRODUIT'!$E$96 -> Gilet | K20: ='FICHE PRODUIT'!$E$97 -> Marius | L20: ='FICHE PRODUIT'!$E$99 -> 55 | M20: ='FICHE PRODUIT'!$E$100 -> 16.6465 | N20: ='FICHE PRODUIT'!$E$102 -> 71.6465 | O20: ='FICHE PRODUIT'!$E$103 -> 4.396586 | P20: ='FICHE PRODUIT'!$E$105 -> 315 | Q20: ='FICHE PRODUIT'!$E$106 -> 126 | R20: ='FICHE PRODUIT'!$E$107 -> 143.18182 | S20: ='FICHE PRODUIT'!$E$108 -> 0 | T20: ='FICHE PRODUIT'!A118 -> PANO DE BOLSO | U20: ='FICHE PRODUIT'!B118 -> DRAGONI | V20: ='FICHE PRODUIT'!C118 -> RAVENNA PXT | W20: ='FICHE PRODUIT'!D118 -> 0.05 | X20: ='FICHE PRODUIT'!E118 -> 0 | Y20: ='FICHE PRODUIT'!F118 -> 2.97 | Z20: ='FICHE PRODUIT'!G118 -> 0.1485 | AA20: ='FICHE PRODUIT'!H118 -> 0
A21: ='FICHE PRODUIT'!$A$86 -> MARIUS BROWN | B21: ='FICHE PRODUIT'!$H$86 -> Straw | C21: ='FICHE PRODUIT'!$S$86 -> W26-27 | D21: ='FICHE PRODUIT'!$Q$86 -> 0 | E21: ='FICHE PRODUIT'!$S$88 -> PROTO | F21: ='FICHE PRODUIT'!$E$90 -> Page 12 | G21: ='FICHE PRODUIT'!$E$91 -> TO DO | H21: ='FICHE PRODUIT'!$E$92 -> OCEAN SURPLUS | I21: ='FICHE PRODUIT'!$E$94 -> FALSE | J21: ='FICHE PRODUIT'!$E$96 -> Gilet | K21: ='FICHE PRODUIT'!$E$97 -> Marius | L21: ='FICHE PRODUIT'!$E$99 -> 55 | M21: ='FICHE PRODUIT'!$E$100 -> 16.6465 | N21: ='FICHE PRODUIT'!$E$102 -> 71.6465 | O21: ='FICHE PRODUIT'!$E$103 -> 4.396586 | P21: ='FICHE PRODUIT'!$E$105 -> 315 | Q21: ='FICHE PRODUIT'!$E$106 -> 126 | R21: ='FICHE PRODUIT'!$E$107 -> 143.18182 | S21: ='FICHE PRODUIT'!$E$108 -> 0 | T21: ='FICHE PRODUIT'!A119 -> GALON | U21: ='FICHE PRODUIT'!B119 -> NASTRO | V21: ='FICHE PRODUIT'!C119 -> G | W21: ='FICHE PRODUIT'!D119 -> 0.1 | X21: ='FICHE PRODUIT'!E119 -> 0 | Y21: ='FICHE PRODUIT'!F119 -> 0.49 | Z21: ='FICHE PRODUIT'!G119 -> 0.049 | AA21: ='FICHE PRODUIT'!H119 -> 0
A22: ='FICHE PRODUIT'!$A$86 -> MARIUS BROWN | B22: ='FICHE PRODUIT'!$H$86 -> Straw | C22: ='FICHE PRODUIT'!$S$86 -> W26-27 | D22: ='FICHE PRODUIT'!$Q$86 -> 0 | E22: ='FICHE PRODUIT'!$S$88 -> PROTO | F22: ='FICHE PRODUIT'!$E$90 -> Page 12 | G22: ='FICHE PRODUIT'!$E$91 -> TO DO | H22: ='FICHE PRODUIT'!$E$92 -> OCEAN SURPLUS | I22: ='FICHE PRODUIT'!$E$94 -> FALSE | J22: ='FICHE PRODUIT'!$E$96 -> Gilet | K22: ='FICHE PRODUIT'!$E$97 -> Marius | L22: ='FICHE PRODUIT'!$E$99 -> 55 | M22: ='FICHE PRODUIT'!$E$100 -> 16.6465 | N22: ='FICHE PRODUIT'!$E$102 -> 71.6465 | O22: ='FICHE PRODUIT'!$E$103 -> 4.396586 | P22: ='FICHE PRODUIT'!$E$105 -> 315 | Q22: ='FICHE PRODUIT'!$E$106 -> 126 | R22: ='FICHE PRODUIT'!$E$107 -> 143.18182 | S22: ='FICHE PRODUIT'!$E$108 -> 0 | T22: ='FICHE PRODUIT'!A120 -> ETIQUETTES | U22: ='FICHE PRODUIT'!B120 -> CADICA | V22: ='FICHE PRODUIT'!C120 -> A3 | W22: ='FICHE PRODUIT'!D120 -> 1 | X22: ='FICHE PRODUIT'!E120 -> 0 | Y22: ='FICHE PRODUIT'!F120 -> 0.27 | Z22: ='FICHE PRODUIT'!G120 -> 0.27 | AA22: ='FICHE PRODUIT'!H120 -> 0
A23: ='FICHE PRODUIT'!$A$86 -> MARIUS BROWN | B23: ='FICHE PRODUIT'!$H$86 -> Straw | C23: ='FICHE PRODUIT'!$S$86 -> W26-27 | D23: ='FICHE PRODUIT'!$Q$86 -> 0 | E23: ='FICHE PRODUIT'!$S$88 -> PROTO | F23: ='FICHE PRODUIT'!$E$90 -> Page 12 | G23: ='FICHE PRODUIT'!$E$91 -> TO DO | H23: ='FICHE PRODUIT'!$E$92 -> OCEAN SURPLUS | I23: ='FICHE PRODUIT'!$E$94 -> FALSE | J23: ='FICHE PRODUIT'!$E$96 -> Gilet | K23: ='FICHE PRODUIT'!$E$97 -> Marius | L23: ='FICHE PRODUIT'!$E$99 -> 55 | M23: ='FICHE PRODUIT'!$E$100 -> 16.6465 | N23: ='FICHE PRODUIT'!$E$102 -> 71.6465 | O23: ='FICHE PRODUIT'!$E$103 -> 4.396586 | P23: ='FICHE PRODUIT'!$E$105 -> 315 | Q23: ='FICHE PRODUIT'!$E$106 -> 126 | R23: ='FICHE PRODUIT'!$E$107 -> 143.18182 | S23: ='FICHE PRODUIT'!$E$108 -> 0 | T23: ='FICHE PRODUIT'!A121 -> HANGTAG | U23: ='FICHE PRODUIT'!B121 -> CADICA | V23: ='FICHE PRODUIT'!C121 -> Y | W23: ='FICHE PRODUIT'!D121 -> 1 | X23: ='FICHE PRODUIT'!E121 -> 0 | Y23: ='FICHE PRODUIT'!F121 -> 0.21 | Z23: ='FICHE PRODUIT'!G121 -> 0.21 | AA23: ='FICHE PRODUIT'!H121 -> 0
A24: ='FICHE PRODUIT'!$A$86 -> MARIUS BROWN | B24: ='FICHE PRODUIT'!$H$86 -> Straw | C24: ='FICHE PRODUIT'!$S$86 -> W26-27 | D24: ='FICHE PRODUIT'!$Q$86 -> 0 | E24: ='FICHE PRODUIT'!$S$88 -> PROTO | F24: ='FICHE PRODUIT'!$E$90 -> Page 12 | G24: ='FICHE PRODUIT'!$E$91 -> TO DO | H24: ='FICHE PRODUIT'!$E$92 -> OCEAN SURPLUS | I24: ='FICHE PRODUIT'!$E$94 -> FALSE | J24: ='FICHE PRODUIT'!$E$96 -> Gilet | K24: ='FICHE PRODUIT'!$E$97 -> Marius | L24: ='FICHE PRODUIT'!$E$99 -> 55 | M24: ='FICHE PRODUIT'!$E$100 -> 16.6465 | N24: ='FICHE PRODUIT'!$E$102 -> 71.6465 | O24: ='FICHE PRODUIT'!$E$103 -> 4.396586 | P24: ='FICHE PRODUIT'!$E$105 -> 315 | Q24: ='FICHE PRODUIT'!$E$106 -> 126 | R24: ='FICHE PRODUIT'!$E$107 -> 143.18182 | S24: ='FICHE PRODUIT'!$E$108 -> 0 | T24: ='FICHE PRODUIT'!A122 -> BOUTONS | U24: ='FICHE PRODUIT'!B122 -> LOUROPEL | V24: ='FICHE PRODUIT'!C122 -> BT1 | W24: ='FICHE PRODUIT'!D122 -> 8 | X24: ='FICHE PRODUIT'!E122 -> 0 | Y24: ='FICHE PRODUIT'!F122 -> 0.06 | Z24: ='FICHE PRODUIT'!G122 -> 0.48 | AA24: ='FICHE PRODUIT'!H122 -> 0
A25: ='FICHE PRODUIT'!$A$86 -> MARIUS BROWN | B25: ='FICHE PRODUIT'!$H$86 -> Straw | C25: ='FICHE PRODUIT'!$S$86 -> W26-27 | D25: ='FICHE PRODUIT'!$Q$86 -> 0 | E25: ='FICHE PRODUIT'!$S$88 -> PROTO | F25: ='FICHE PRODUIT'!$E$90 -> Page 12 | G25: ='FICHE PRODUIT'!$E$91 -> TO DO | H25: ='FICHE PRODUIT'!$E$92 -> OCEAN SURPLUS | I25: ='FICHE PRODUIT'!$E$94 -> FALSE | J25: ='FICHE PRODUIT'!$E$96 -> Gilet | K25: ='FICHE PRODUIT'!$E$97 -> Marius | L25: ='FICHE PRODUIT'!$E$99 -> 55 | M25: ='FICHE PRODUIT'!$E$100 -> 16.6465 | N25: ='FICHE PRODUIT'!$E$102 -> 71.6465 | O25: ='FICHE PRODUIT'!$E$103 -> 4.396586 | P25: ='FICHE PRODUIT'!$E$105 -> 315 | Q25: ='FICHE PRODUIT'!$E$106 -> 126 | R25: ='FICHE PRODUIT'!$E$107 -> 143.18182 | S25: ='FICHE PRODUIT'!$E$108 -> 0 | T25: ='FICHE PRODUIT'!A123 -> 0 | U25: ='FICHE PRODUIT'!B123 -> 0 | V25: ='FICHE PRODUIT'!C123 -> 0 | W25: ='FICHE PRODUIT'!D123 -> 0 | X25: ='FICHE PRODUIT'!E123 -> 0 | Y25: ='FICHE PRODUIT'!F123 -> 0 | Z25: ='FICHE PRODUIT'!G123 -> 0 | AA25: ='FICHE PRODUIT'!H123 -> 0
A26: ='FICHE PRODUIT'!$A$86 -> MARIUS BROWN | B26: ='FICHE PRODUIT'!$H$86 -> Straw | C26: ='FICHE PRODUIT'!$S$86 -> W26-27 | D26: ='FICHE PRODUIT'!$Q$86 -> 0 | E26: ='FICHE PRODUIT'!$S$88 -> PROTO | F26: ='FICHE PRODUIT'!$E$90 -> Page 12 | G26: ='FICHE PRODUIT'!$E$91 -> TO DO | H26: ='FICHE PRODUIT'!$E$92 -> OCEAN SURPLUS | I26: ='FICHE PRODUIT'!$E$94 -> FALSE | J26: ='FICHE PRODUIT'!$E$96 -> Gilet | K26: ='FICHE PRODUIT'!$E$97 -> Marius | L26: ='FICHE PRODUIT'!$E$99 -> 55 | M26: ='FICHE PRODUIT'!$E$100 -> 16.6465 | N26: ='FICHE PRODUIT'!$E$102 -> 71.6465 | O26: ='FICHE PRODUIT'!$E$103 -> 4.396586 | P26: ='FICHE PRODUIT'!$E$105 -> 315 | Q26: ='FICHE PRODUIT'!$E$106 -> 126 | R26: ='FICHE PRODUIT'!$E$107 -> 143.18182 | S26: ='FICHE PRODUIT'!$E$108 -> 0 | T26: ='FICHE PRODUIT'!A124 -> Frais externe | U26: ='FICHE PRODUIT'!B124 -> Transport | V26: ='FICHE PRODUIT'!C124 -> International | W26: ='FICHE PRODUIT'!D124 -> 1 | X26: ='FICHE PRODUIT'!E124 -> 0 | Y26: ='FICHE PRODUIT'!F124 -> 4 | Z26: ='FICHE PRODUIT'!G124 -> 4 | AA26: ='FICHE PRODUIT'!H124 -> 0
A27: ='FICHE PRODUIT'!$A$86 -> MARIUS BROWN | B27: ='FICHE PRODUIT'!$H$86 -> Straw | C27: ='FICHE PRODUIT'!$S$86 -> W26-27 | D27: ='FICHE PRODUIT'!$Q$86 -> 0 | E27: ='FICHE PRODUIT'!$S$88 -> PROTO | F27: ='FICHE PRODUIT'!$E$90 -> Page 12 | G27: ='FICHE PRODUIT'!$E$91 -> TO DO | H27: ='FICHE PRODUIT'!$E$92 -> OCEAN SURPLUS | I27: ='FICHE PRODUIT'!$E$94 -> FALSE | J27: ='FICHE PRODUIT'!$E$96 -> Gilet | K27: ='FICHE PRODUIT'!$E$97 -> Marius | L27: ='FICHE PRODUIT'!$E$99 -> 55 | M27: ='FICHE PRODUIT'!$E$100 -> 16.6465 | N27: ='FICHE PRODUIT'!$E$102 -> 71.6465 | O27: ='FICHE PRODUIT'!$E$103 -> 4.396586 | P27: ='FICHE PRODUIT'!$E$105 -> 315 | Q27: ='FICHE PRODUIT'!$E$106 -> 126 | R27: ='FICHE PRODUIT'!$E$107 -> 143.18182 | S27: ='FICHE PRODUIT'!$E$108 -> 0 | T27: ='FICHE PRODUIT'!A125 -> Frais externe | U27: ='FICHE PRODUIT'!B125 -> Communication | V27: ='FICHE PRODUIT'!C125 -> Marketing | W27: ='FICHE PRODUIT'!D125 -> 1 | X27: ='FICHE PRODUIT'!E125 -> 0 | Y27: ='FICHE PRODUIT'!F125 -> 0.5 | Z27: ='FICHE PRODUIT'!G125 -> 0.5 | AA27: ='FICHE PRODUIT'!H125 -> 0
A28: ='FICHE PRODUIT'!$A$127 -> MARIUS BLUE | B28: ='FICHE PRODUIT'!$H$127 -> Navy | C28: ='FICHE PRODUIT'!$S$127 -> W26-27 | D28: ='FICHE PRODUIT'!$Q$127 -> 0 | E28: ='FICHE PRODUIT'!$S$129 -> PROTO | F28: ='FICHE PRODUIT'!$E$131 -> Page 12 | G28: ='FICHE PRODUIT'!$E$132 -> TO DO | H28: ='FICHE PRODUIT'!$E$133 -> OCEAN SURPLUS | I28: ='FICHE PRODUIT'!$E$135 -> FALSE | J28: ='FICHE PRODUIT'!$E$137 -> Gilet | K28: ='FICHE PRODUIT'!$E$138 -> Marius | L28: ='FICHE PRODUIT'!$E$140 -> 55 | M28: ='FICHE PRODUIT'!$E$141 -> 16.6465 | N28: ='FICHE PRODUIT'!$E$143 -> 71.6465 | O28: ='FICHE PRODUIT'!$E$144 -> 4.396586 | P28: ='FICHE PRODUIT'!$E$146 -> 315 | Q28: ='FICHE PRODUIT'!$E$147 -> 126 | R28: ='FICHE PRODUIT'!$E$148 -> 143.18182 | S28: ='FICHE PRODUIT'!$E$149 -> 0 | T28: ='FICHE PRODUIT'!A154 -> FABRIC | U28: ='FICHE PRODUIT'!B154 -> AMBASSADOR | V28: ='FICHE PRODUIT'!C154 -> SUE225NAV - FAUX SUEDE NAVY | W28: ='FICHE PRODUIT'!D154 -> 0.8 | X28: ='FICHE PRODUIT'!E154 -> 0 | Y28: ='FICHE PRODUIT'!F154 -> 6.2 | Z28: ='FICHE PRODUIT'!G154 -> 4.96 | AA28: ='FICHE PRODUIT'!H154 -> 0
A29: ='FICHE PRODUIT'!$A$127 -> MARIUS BLUE | B29: ='FICHE PRODUIT'!$H$127 -> Navy | C29: ='FICHE PRODUIT'!$S$127 -> W26-27 | D29: ='FICHE PRODUIT'!$Q$127 -> 0 | E29: ='FICHE PRODUIT'!$S$129 -> PROTO | F29: ='FICHE PRODUIT'!$E$131 -> Page 12 | G29: ='FICHE PRODUIT'!$E$132 -> TO DO | H29: ='FICHE PRODUIT'!$E$133 -> OCEAN SURPLUS | I29: ='FICHE PRODUIT'!$E$135 -> FALSE | J29: ='FICHE PRODUIT'!$E$137 -> Gilet | K29: ='FICHE PRODUIT'!$E$138 -> Marius | L29: ='FICHE PRODUIT'!$E$140 -> 55 | M29: ='FICHE PRODUIT'!$E$141 -> 16.6465 | N29: ='FICHE PRODUIT'!$E$143 -> 71.6465 | O29: ='FICHE PRODUIT'!$E$144 -> 4.396586 | P29: ='FICHE PRODUIT'!$E$146 -> 315 | Q29: ='FICHE PRODUIT'!$E$147 -> 126 | R29: ='FICHE PRODUIT'!$E$148 -> 143.18182 | S29: ='FICHE PRODUIT'!$E$149 -> 0 | T29: ='FICHE PRODUIT'!A155 -> LINNING | U29: ='FICHE PRODUIT'!B155 -> TABEL | V29: ='FICHE PRODUIT'!C155 -> Dessin Camo - Fleurs Rouge | W29: ='FICHE PRODUIT'!D155 -> 0.35 | X29: ='FICHE PRODUIT'!E155 -> 0 | Y29: ='FICHE PRODUIT'!F155 -> 3.95 | Z29: ='FICHE PRODUIT'!G155 -> 1.3825 | AA29: ='FICHE PRODUIT'!H155 -> 0
A30: ='FICHE PRODUIT'!$A$127 -> MARIUS BLUE | B30: ='FICHE PRODUIT'!$H$127 -> Navy | C30: ='FICHE PRODUIT'!$S$127 -> W26-27 | D30: ='FICHE PRODUIT'!$Q$127 -> 0 | E30: ='FICHE PRODUIT'!$S$129 -> PROTO | F30: ='FICHE PRODUIT'!$E$131 -> Page 12 | G30: ='FICHE PRODUIT'!$E$132 -> TO DO | H30: ='FICHE PRODUIT'!$E$133 -> OCEAN SURPLUS | I30: ='FICHE PRODUIT'!$E$135 -> FALSE | J30: ='FICHE PRODUIT'!$E$137 -> Gilet | K30: ='FICHE PRODUIT'!$E$138 -> Marius | L30: ='FICHE PRODUIT'!$E$140 -> 55 | M30: ='FICHE PRODUIT'!$E$141 -> 16.6465 | N30: ='FICHE PRODUIT'!$E$143 -> 71.6465 | O30: ='FICHE PRODUIT'!$E$144 -> 4.396586 | P30: ='FICHE PRODUIT'!$E$146 -> 315 | Q30: ='FICHE PRODUIT'!$E$147 -> 126 | R30: ='FICHE PRODUIT'!$E$148 -> 143.18182 | S30: ='FICHE PRODUIT'!$E$149 -> 0 | T30: ='FICHE PRODUIT'!A156 -> BACK | U30: ='FICHE PRODUIT'!B156 -> MDA | V30: ='FICHE PRODUIT'!C156 -> 2179 PPT / COL CW27742 | W30: ='FICHE PRODUIT'!D156 -> 0.4 | X30: ='FICHE PRODUIT'!E156 -> 0 | Y30: ='FICHE PRODUIT'!F156 -> 8.91 | Z30: ='FICHE PRODUIT'!G156 -> 3.564 | AA30: ='FICHE PRODUIT'!H156 -> 0
A31: ='FICHE PRODUIT'!$A$127 -> MARIUS BLUE | B31: ='FICHE PRODUIT'!$H$127 -> Navy | C31: ='FICHE PRODUIT'!$S$127 -> W26-27 | D31: ='FICHE PRODUIT'!$Q$127 -> 0 | E31: ='FICHE PRODUIT'!$S$129 -> PROTO | F31: ='FICHE PRODUIT'!$E$131 -> Page 12 | G31: ='FICHE PRODUIT'!$E$132 -> TO DO | H31: ='FICHE PRODUIT'!$E$133 -> OCEAN SURPLUS | I31: ='FICHE PRODUIT'!$E$135 -> FALSE | J31: ='FICHE PRODUIT'!$E$137 -> Gilet | K31: ='FICHE PRODUIT'!$E$138 -> Marius | L31: ='FICHE PRODUIT'!$E$140 -> 55 | M31: ='FICHE PRODUIT'!$E$141 -> 16.6465 | N31: ='FICHE PRODUIT'!$E$143 -> 71.6465 | O31: ='FICHE PRODUIT'!$E$144 -> 4.396586 | P31: ='FICHE PRODUIT'!$E$146 -> 315 | Q31: ='FICHE PRODUIT'!$E$147 -> 126 | R31: ='FICHE PRODUIT'!$E$148 -> 143.18182 | S31: ='FICHE PRODUIT'!$E$149 -> 0 | T31: ='FICHE PRODUIT'!A157 -> INTERLINING | U31: ='FICHE PRODUIT'!B157 -> CHARGEUR | V31: ='FICHE PRODUIT'!C157 -> 713048 PRETA | W31: ='FICHE PRODUIT'!D157 -> 0.8 | X31: ='FICHE PRODUIT'!E157 -> 0 | Y31: ='FICHE PRODUIT'!F157 -> 1.35 | Z31: ='FICHE PRODUIT'!G157 -> 1.08 | AA31: ='FICHE PRODUIT'!H157 -> 0
A32: ='FICHE PRODUIT'!$A$127 -> MARIUS BLUE | B32: ='FICHE PRODUIT'!$H$127 -> Navy | C32: ='FICHE PRODUIT'!$S$127 -> W26-27 | D32: ='FICHE PRODUIT'!$Q$127 -> 0 | E32: ='FICHE PRODUIT'!$S$129 -> PROTO | F32: ='FICHE PRODUIT'!$E$131 -> Page 12 | G32: ='FICHE PRODUIT'!$E$132 -> TO DO | H32: ='FICHE PRODUIT'!$E$133 -> OCEAN SURPLUS | I32: ='FICHE PRODUIT'!$E$135 -> FALSE | J32: ='FICHE PRODUIT'!$E$137 -> Gilet | K32: ='FICHE PRODUIT'!$E$138 -> Marius | L32: ='FICHE PRODUIT'!$E$140 -> 55 | M32: ='FICHE PRODUIT'!$E$141 -> 16.6465 | N32: ='FICHE PRODUIT'!$E$143 -> 71.6465 | O32: ='FICHE PRODUIT'!$E$144 -> 4.396586 | P32: ='FICHE PRODUIT'!$E$146 -> 315 | Q32: ='FICHE PRODUIT'!$E$147 -> 126 | R32: ='FICHE PRODUIT'!$E$148 -> 143.18182 | S32: ='FICHE PRODUIT'!$E$149 -> 0 | T32: ='FICHE PRODUIT'!A158 -> UNDER COLLAR | U32: ='FICHE PRODUIT'!B158 -> OFFITEX | V32: ='FICHE PRODUIT'!C158 -> COR 301C/1 | W32: ='FICHE PRODUIT'!D158 -> 0.05 | X32: ='FICHE PRODUIT'!E158 -> 0 | Y32: ='FICHE PRODUIT'!F158 -> 0.05 | Z32: ='FICHE PRODUIT'!G158 -> 0.0025 | AA32: ='FICHE PRODUIT'!H158 -> 0
A33: ='FICHE PRODUIT'!$A$127 -> MARIUS BLUE | B33: ='FICHE PRODUIT'!$H$127 -> Navy | C33: ='FICHE PRODUIT'!$S$127 -> W26-27 | D33: ='FICHE PRODUIT'!$Q$127 -> 0 | E33: ='FICHE PRODUIT'!$S$129 -> PROTO | F33: ='FICHE PRODUIT'!$E$131 -> Page 12 | G33: ='FICHE PRODUIT'!$E$132 -> TO DO | H33: ='FICHE PRODUIT'!$E$133 -> OCEAN SURPLUS | I33: ='FICHE PRODUIT'!$E$135 -> FALSE | J33: ='FICHE PRODUIT'!$E$137 -> Gilet | K33: ='FICHE PRODUIT'!$E$138 -> Marius | L33: ='FICHE PRODUIT'!$E$140 -> 55 | M33: ='FICHE PRODUIT'!$E$141 -> 16.6465 | N33: ='FICHE PRODUIT'!$E$143 -> 71.6465 | O33: ='FICHE PRODUIT'!$E$144 -> 4.396586 | P33: ='FICHE PRODUIT'!$E$146 -> 315 | Q33: ='FICHE PRODUIT'!$E$147 -> 126 | R33: ='FICHE PRODUIT'!$E$148 -> 143.18182 | S33: ='FICHE PRODUIT'!$E$149 -> 0 | T33: ='FICHE PRODUIT'!A159 -> PANO DE BOLSO | U33: ='FICHE PRODUIT'!B159 -> DRAGONI | V33: ='FICHE PRODUIT'!C159 -> RAVENNA PXT | W33: ='FICHE PRODUIT'!D159 -> 0.05 | X33: ='FICHE PRODUIT'!E159 -> 0 | Y33: ='FICHE PRODUIT'!F159 -> 2.97 | Z33: ='FICHE PRODUIT'!G159 -> 0.1485 | AA33: ='FICHE PRODUIT'!H159 -> 0
A34: ='FICHE PRODUIT'!$A$127 -> MARIUS BLUE | B34: ='FICHE PRODUIT'!$H$127 -> Navy | C34: ='FICHE PRODUIT'!$S$127 -> W26-27 | D34: ='FICHE PRODUIT'!$Q$127 -> 0 | E34: ='FICHE PRODUIT'!$S$129 -> PROTO | F34: ='FICHE PRODUIT'!$E$131 -> Page 12 | G34: ='FICHE PRODUIT'!$E$132 -> TO DO | H34: ='FICHE PRODUIT'!$E$133 -> OCEAN SURPLUS | I34: ='FICHE PRODUIT'!$E$135 -> FALSE | J34: ='FICHE PRODUIT'!$E$137 -> Gilet | K34: ='FICHE PRODUIT'!$E$138 -> Marius | L34: ='FICHE PRODUIT'!$E$140 -> 55 | M34: ='FICHE PRODUIT'!$E$141 -> 16.6465 | N34: ='FICHE PRODUIT'!$E$143 -> 71.6465 | O34: ='FICHE PRODUIT'!$E$144 -> 4.396586 | P34: ='FICHE PRODUIT'!$E$146 -> 315 | Q34: ='FICHE PRODUIT'!$E$147 -> 126 | R34: ='FICHE PRODUIT'!$E$148 -> 143.18182 | S34: ='FICHE PRODUIT'!$E$149 -> 0 | T34: ='FICHE PRODUIT'!A160 -> GALON | U34: ='FICHE PRODUIT'!B160 -> NASTRO | V34: ='FICHE PRODUIT'!C160 -> G | W34: ='FICHE PRODUIT'!D160 -> 0.1 | X34: ='FICHE PRODUIT'!E160 -> 0 | Y34: ='FICHE PRODUIT'!F160 -> 0.49 | Z34: ='FICHE PRODUIT'!G160 -> 0.049 | AA34: ='FICHE PRODUIT'!H160 -> 0
A35: ='FICHE PRODUIT'!$A$127 -> MARIUS BLUE | B35: ='FICHE PRODUIT'!$H$127 -> Navy | C35: ='FICHE PRODUIT'!$S$127 -> W26-27 | D35: ='FICHE PRODUIT'!$Q$127 -> 0 | E35: ='FICHE PRODUIT'!$S$129 -> PROTO | F35: ='FICHE PRODUIT'!$E$131 -> Page 12 | G35: ='FICHE PRODUIT'!$E$132 -> TO DO | H35: ='FICHE PRODUIT'!$E$133 -> OCEAN SURPLUS | I35: ='FICHE PRODUIT'!$E$135 -> FALSE | J35: ='FICHE PRODUIT'!$E$137 -> Gilet | K35: ='FICHE PRODUIT'!$E$138 -> Marius | L35: ='FICHE PRODUIT'!$E$140 -> 55 | M35: ='FICHE PRODUIT'!$E$141 -> 16.6465 | N35: ='FICHE PRODUIT'!$E$143 -> 71.6465 | O35: ='FICHE PRODUIT'!$E$144 -> 4.396586 | P35: ='FICHE PRODUIT'!$E$146 -> 315 | Q35: ='FICHE PRODUIT'!$E$147 -> 126 | R35: ='FICHE PRODUIT'!$E$148 -> 143.18182 | S35: ='FICHE PRODUIT'!$E$149 -> 0 | T35: ='FICHE PRODUIT'!A161 -> ETIQUETTES | U35: ='FICHE PRODUIT'!B161 -> CADICA | V35: ='FICHE PRODUIT'!C161 -> A3 | W35: ='FICHE PRODUIT'!D161 -> 1 | X35: ='FICHE PRODUIT'!E161 -> 0 | Y35: ='FICHE PRODUIT'!F161 -> 0.27 | Z35: ='FICHE PRODUIT'!G161 -> 0.27 | AA35: ='FICHE PRODUIT'!H161 -> 0
A36: ='FICHE PRODUIT'!$A$127 -> MARIUS BLUE | B36: ='FICHE PRODUIT'!$H$127 -> Navy | C36: ='FICHE PRODUIT'!$S$127 -> W26-27 | D36: ='FICHE PRODUIT'!$Q$127 -> 0 | E36: ='FICHE PRODUIT'!$S$129 -> PROTO | F36: ='FICHE PRODUIT'!$E$131 -> Page 12 | G36: ='FICHE PRODUIT'!$E$132 -> TO DO | H36: ='FICHE PRODUIT'!$E$133 -> OCEAN SURPLUS | I36: ='FICHE PRODUIT'!$E$135 -> FALSE | J36: ='FICHE PRODUIT'!$E$137 -> Gilet | K36: ='FICHE PRODUIT'!$E$138 -> Marius | L36: ='FICHE PRODUIT'!$E$140 -> 55 | M36: ='FICHE PRODUIT'!$E$141 -> 16.6465 | N36: ='FICHE PRODUIT'!$E$143 -> 71.6465 | O36: ='FICHE PRODUIT'!$E$144 -> 4.396586 | P36: ='FICHE PRODUIT'!$E$146 -> 315 | Q36: ='FICHE PRODUIT'!$E$147 -> 126 | R36: ='FICHE PRODUIT'!$E$148 -> 143.18182 | S36: ='FICHE PRODUIT'!$E$149 -> 0 | T36: ='FICHE PRODUIT'!A162 -> HANGTAG | U36: ='FICHE PRODUIT'!B162 -> CADICA | V36: ='FICHE PRODUIT'!C162 -> Y | W36: ='FICHE PRODUIT'!D162 -> 1 | X36: ='FICHE PRODUIT'!E162 -> 0 | Y36: ='FICHE PRODUIT'!F162 -> 0.21 | Z36: ='FICHE PRODUIT'!G162 -> 0.21 | AA36: ='FICHE PRODUIT'!H162 -> 0
A37: ='FICHE PRODUIT'!$A$127 -> MARIUS BLUE | B37: ='FICHE PRODUIT'!$H$127 -> Navy | C37: ='FICHE PRODUIT'!$S$127 -> W26-27 | D37: ='FICHE PRODUIT'!$Q$127 -> 0 | E37: ='FICHE PRODUIT'!$S$129 -> PROTO | F37: ='FICHE PRODUIT'!$E$131 -> Page 12 | G37: ='FICHE PRODUIT'!$E$132 -> TO DO | H37: ='FICHE PRODUIT'!$E$133 -> OCEAN SURPLUS | I37: ='FICHE PRODUIT'!$E$135 -> FALSE | J37: ='FICHE PRODUIT'!$E$137 -> Gilet | K37: ='FICHE PRODUIT'!$E$138 -> Marius | L37: ='FICHE PRODUIT'!$E$140 -> 55 | M37: ='FICHE PRODUIT'!$E$141 -> 16.6465 | N37: ='FICHE PRODUIT'!$E$143 -> 71.6465 | O37: ='FICHE PRODUIT'!$E$144 -> 4.396586 | P37: ='FICHE PRODUIT'!$E$146 -> 315 | Q37: ='FICHE PRODUIT'!$E$147 -> 126 | R37: ='FICHE PRODUIT'!$E$148 -> 143.18182 | S37: ='FICHE PRODUIT'!$E$149 -> 0 | T37: ='FICHE PRODUIT'!A163 -> BOUTONS | U37: ='FICHE PRODUIT'!B163 -> LOUROPEL | V37: ='FICHE PRODUIT'!C163 -> BT1 | W37: ='FICHE PRODUIT'!D163 -> 8 | X37: ='FICHE PRODUIT'!E163 -> 0 | Y37: ='FICHE PRODUIT'!F163 -> 0.06 | Z37: ='FICHE PRODUIT'!G163 -> 0.48 | AA37: ='FICHE PRODUIT'!H163 -> 0
A38: ='FICHE PRODUIT'!$A$127 -> MARIUS BLUE | B38: ='FICHE PRODUIT'!$H$127 -> Navy | C38: ='FICHE PRODUIT'!$S$127 -> W26-27 | D38: ='FICHE PRODUIT'!$Q$127 -> 0 | E38: ='FICHE PRODUIT'!$S$129 -> PROTO | F38: ='FICHE PRODUIT'!$E$131 -> Page 12 | G38: ='FICHE PRODUIT'!$E$132 -> TO DO | H38: ='FICHE PRODUIT'!$E$133 -> OCEAN SURPLUS | I38: ='FICHE PRODUIT'!$E$135 -> FALSE | J38: ='FICHE PRODUIT'!$E$137 -> Gilet | K38: ='FICHE PRODUIT'!$E$138 -> Marius | L38: ='FICHE PRODUIT'!$E$140 -> 55 | M38: ='FICHE PRODUIT'!$E$141 -> 16.6465 | N38: ='FICHE PRODUIT'!$E$143 -> 71.6465 | O38: ='FICHE PRODUIT'!$E$144 -> 4.396586 | P38: ='FICHE PRODUIT'!$E$146 -> 315 | Q38: ='FICHE PRODUIT'!$E$147 -> 126 | R38: ='FICHE PRODUIT'!$E$148 -> 143.18182 | S38: ='FICHE PRODUIT'!$E$149 -> 0 | T38: ='FICHE PRODUIT'!A164 -> 0 | U38: ='FICHE PRODUIT'!B164 -> 0 | V38: ='FICHE PRODUIT'!C164 -> 0 | W38: ='FICHE PRODUIT'!D164 -> 0 | X38: ='FICHE PRODUIT'!E164 -> 0 | Y38: ='FICHE PRODUIT'!F164 -> 0 | Z38: ='FICHE PRODUIT'!G164 -> 0 | AA38: ='FICHE PRODUIT'!H164 -> 0
A39: ='FICHE PRODUIT'!$A$127 -> MARIUS BLUE | B39: ='FICHE PRODUIT'!$H$127 -> Navy | C39: ='FICHE PRODUIT'!$S$127 -> W26-27 | D39: ='FICHE PRODUIT'!$Q$127 -> 0 | E39: ='FICHE PRODUIT'!$S$129 -> PROTO | F39: ='FICHE PRODUIT'!$E$131 -> Page 12 | G39: ='FICHE PRODUIT'!$E$132 -> TO DO | H39: ='FICHE PRODUIT'!$E$133 -> OCEAN SURPLUS | I39: ='FICHE PRODUIT'!$E$135 -> FALSE | J39: ='FICHE PRODUIT'!$E$137 -> Gilet | K39: ='FICHE PRODUIT'!$E$138 -> Marius | L39: ='FICHE PRODUIT'!$E$140 -> 55 | M39: ='FICHE PRODUIT'!$E$141 -> 16.6465 | N39: ='FICHE PRODUIT'!$E$143 -> 71.6465 | O39: ='FICHE PRODUIT'!$E$144 -> 4.396586 | P39: ='FICHE PRODUIT'!$E$146 -> 315 | Q39: ='FICHE PRODUIT'!$E$147 -> 126 | R39: ='FICHE PRODUIT'!$E$148 -> 143.18182 | S39: ='FICHE PRODUIT'!$E$149 -> 0 | T39: ='FICHE PRODUIT'!A165 -> Frais externe | U39: ='FICHE PRODUIT'!B165 -> Transport | V39: ='FICHE PRODUIT'!C165 -> International | W39: ='FICHE PRODUIT'!D165 -> 1 | X39: ='FICHE PRODUIT'!E165 -> 0 | Y39: ='FICHE PRODUIT'!F165 -> 4 | Z39: ='FICHE PRODUIT'!G165 -> 4 | AA39: ='FICHE PRODUIT'!H165 -> 0
A40: ='FICHE PRODUIT'!$A$127 -> MARIUS BLUE | B40: ='FICHE PRODUIT'!$H$127 -> Navy | C40: ='FICHE PRODUIT'!$S$127 -> W26-27 | D40: ='FICHE PRODUIT'!$Q$127 -> 0 | E40: ='FICHE PRODUIT'!$S$129 -> PROTO | F40: ='FICHE PRODUIT'!$E$131 -> Page 12 | G40: ='FICHE PRODUIT'!$E$132 -> TO DO | H40: ='FICHE PRODUIT'!$E$133 -> OCEAN SURPLUS | I40: ='FICHE PRODUIT'!$E$135 -> FALSE | J40: ='FICHE PRODUIT'!$E$137 -> Gilet | K40: ='FICHE PRODUIT'!$E$138 -> Marius | L40: ='FICHE PRODUIT'!$E$140 -> 55 | M40: ='FICHE PRODUIT'!$E$141 -> 16.6465 | N40: ='FICHE PRODUIT'!$E$143 -> 71.6465 | O40: ='FICHE PRODUIT'!$E$144 -> 4.396586 | P40: ='FICHE PRODUIT'!$E$146 -> 315 | Q40: ='FICHE PRODUIT'!$E$147 -> 126 | R40: ='FICHE PRODUIT'!$E$148 -> 143.18182 | S40: ='FICHE PRODUIT'!$E$149 -> 0 | T40: ='FICHE PRODUIT'!A166 -> Frais externe | U40: ='FICHE PRODUIT'!B166 -> Communication | V40: ='FICHE PRODUIT'!C166 -> Marketing | W40: ='FICHE PRODUIT'!D166 -> 1 | X40: ='FICHE PRODUIT'!E166 -> 0 | Y40: ='FICHE PRODUIT'!F166 -> 0.5 | Z40: ='FICHE PRODUIT'!G166 -> 0.5 | AA40: ='FICHE PRODUIT'!H166 -> 0
...

Sheet BASE_TECH
A1: FAMILLE | B1: SOUS FAMILLE | E1: {=_xlfn.UNIQUE(_xlfn._xlws.FILTER(B:B, A:A = 'FICHE PRODUIT'!E12, "Pas de résultat"))} -> 0 | H1: TYPE | I1: SUPPLIER2 | J1: REF PRODUCT | K1: Cost / per m | L1: Dernière MAJ | N1: {=_xlfn.UNIQUE(_xlfn._xlws.FILTER(TabFournisseurs[SUPPLIER2], TabFournisseurs[TYPE]=INDIRECT("'FICHE PRODUIT'!A"&CELL("ligne")), "Choisir Type"))} -> Choisir Type | O1: {=_xlfn._xlws.FILTER(TabFournisseurs[REF PRODUCT], (TabFournisseurs[TYPE]=INDIRECT("'FICHE PRODUIT'!A"&CELL("ligne")))*(TabFournisseurs[SUPPLIER2]=INDIRECT("'FICHE PRODUIT'!B"&CELL("ligne"))), "Choisir...")} -> Choisir... | Q1: LISTE DEROULANTE SAMPLE | S1: LISTE DEROULANTE ETAT | U1: COLOR
A2: Blazers | B2: Slack | H2: FABRIC | I2: MARZOTTO | J2: F0065/004 | K2: 22.4 | L2: 46154 | Q2: TO DO | S2: In development | U2: Army Brown
A3: Chemise | H3: FABRIC | I3: AMBASSADOR | J3: SUE225PEC - FAUX SUEDE PECAN | K3: 6.2 | L3: 46210 | Q3: Not need | S3: PROTO | U3: Army Patch
A4: Gilet | B4: Marius | H4: BOUTONS | I4: LOUROPEL | J4: 03040 SIZE 44 COL 21012 | Q4: Done | S4: WAIT QUANTITY | U4: Beige
A5: Gilet | B5: Dandy | H5: FABRIC | I5: HALLEY STEVENSON | J5: 10:10 ARMY DUCK 1275 TAN CRUZ | K5: 18.8 | L5: 46163 | S5: IN PRODUCTION | U5: Bleu
A6: Gilet | B6: Peck | H6: FABRIC | I6: ALBANO MORGADO | J6: 12 16190 I 005 | S6: PRODUCTION FINISH | U6: Brown
A7: Gilet | B7: Matelassé | H7: FABRIC | I7: ALBANO MORGADO | J7: 13 15370 I 002 | K7: 13.8 | L7: 46148 | S7: Sufficient stock | U7: Brut
A8: Pantalon | B8: Jeans | H8: FABRIC | I8: ALBANO MORGADO | J8: 13 15370 I 008 | K8: 13.8 | L8: 46127 | S8: REPORT / CANCEL | U8: Camo
A9: Pantalon | B9: Chino | H9: FABRIC | I9: ALBANO MORGADO | J9: 13 15370 I 015 | K9: 13.8 | L9: 46127 | U9: Caramel
A10: Pantalon | B10: Cargo | H10: FABRIC | I10: ALBANO MORGADO | J10: 13 15370 I 017 | K10: 12.8 | L10: 46148 | U10: Chambray Bleach
A11: Pantalon | B11: Cool pants - Louisiane | H11: FABRIC | I11: ALBANO MORGADO | J11: 13 16190 I 005 | K11: 14.2 | L11: 46162 | U11: Ciel
A12: Pièce à manche | B12: Manteau | H12: FABRIC | I12: ALBANO MORGADO | J12: 15 12987 I 022 | K12: 13.4 | L12: 46148 | U12: Creme
A13: Pièce à manche | B13: Veste | H13: FABRIC | I13: ALBANO MORGADO | J13: 15 13825 I 010 | K13: 13.4 | L13: 46148 | U13: Denim
A14: Polo | H14: FABRIC | I14: ALBANO MORGADO | J14: 15 13825 I 016 | K14: 13.4 | L14: 46148 | U14: Écrue
A15: Surchemise | B15: Wood | H15: FABRIC | I15: ALBANO MORGADO | J15: 15 13825 I 018 | K15: 13.4 | L15: 46148 | U15: Fade out indigo
H16: FABRIC | I16: ALBANO MORGADO | J16: 15 13825 I 029 | K16: 11.9 | L16: 46162 | U16: Gitane
D17: FABRIC | F17: Colonne1 | H17: FABRIC | I17: ALBANO MORGADO | J17: 15 15214 I 001 | K17: 11.2 | L17: 46162 | U17: Gris
D18: LINNING | F18: ACM | H18: FABRIC | I18: ALBANO MORGADO | J18: 15 15214 I 021 | K18: 11.2 | L18: 46154 | U18: Indigo
D19: BACK | F19: ALBANO MORGADO | H19: FABRIC | I19: ALBANO MORGADO | J19: 15 16982 I 001 | K19: 11.2 | L19: 46162 | U19: Kaki
D20: INTERLINING | F20: AMBASSADOR | H20: FABRIC | I20: ALBANO MORGADO | J20: 15 16982 I 002 | K20: 11.2 | L20: 46162 | U20: Marine
D21: UNDER COLLAR | F21: CADICA | H21: FABRIC | I21: ALBANO MORGADO | J21: 15 16982 I 003 | K21: 11.2 | L21: 46162 | U21: Marron
D22: BOUCLE | F22: CERVOTESSILE | H22: FABRIC | I22: ALBANO MORGADO | J22: 15 16982 I 004 | K22: 11.2 | L22: 46162 | U22: Naturel
D23: PANO DE BOLSO | F23: CHARGEUR | H23: FABRIC | I23: ALBANO MORGADO | J23: 15 16982 I 005 | K23: 11.2 | L23: 46162 | U23: Navy
D24: GALON | F24: Classwash | H24: FABRIC | I24: ALBANO MORGADO | J24: 1516514-001 | K24: 13.4 | L24: 46127 | U24: Off White
D25: BOUTONS | F25: Communication | H25: FABRIC | I25: ZANIERI | J25: 15900 SUPERFELT 901 COLOR 901 | K25: 23.52 | L25: 46155 | U25: Orange
D26: ETIQUETTES | F26: DRAGONI | H26: FABRIC | I26: PONTEX | J26: 1603/K51VALLON PXT RESINA DOM 1+1 | K26: 15.45 | L26: 46163 | U26: Patch Bleu
D27: GALON | F27: DUCA VISCONTI | H27: FABRIC | I27: MDA | J27: 2124 DESENCOLADO | K27: 4.5 | L27: 46155 | U27: Patch Caramel
D28: HANGTAG | F28: LOUROPEL | H28: FABRIC | I28: MDA | J28: 2179 COL. P.T.E. "CANVAS " | K28: 4.2 | L28: 46155 | U28: Patch Kaki
... D31: ZIP | F31: NASTRO | H31: BACK | I31: MDA | J31: 2179 PPT / COL CW27742 | K31: 8.91 | L31: 46127 | U31: Rayure Kaki
F32: NF21 | H32: BACK | I32: MDA | J32: 2179 PPT / COL CW608790 | K32: 8.91 | L32: 46148 | U32: Rose
F33: OFFITEX | H33: BACK | I33: MDA | J33: 2179 PPT / COL CW708793 | K33: 8.91 | L33: 46148 | U33: Rouge
F34: SIDOGRAS | H34: PIPING | I34: J.GUERRA | J34: 315/25 COL 239 | U34: Sable
F35: TABEL | H35: FABRIC | I35: ALBANO MORGADO | J35: 35 13200 I 001 | K35: 13.4 | L35: 46210 | U35: Seersucker
F36: TELATEX | H36: FABRIC | I36: ALBANO MORGADO | J36: 35 13200 I 010 | K36: 13.4 | L36: 46148 | U36: Shibory
F37: Transport | H37: FABRIC | I37: ALBANO MORGADO | J37: 35 13200 I 041 | K37: 13.2 | L37: 46154 | U37: Sky
F38: TROFICOLOR | H38: FABRIC | I38: ALBANO MORGADO | J38: 35 14447 I 001 | K38: 17.2 | L38: 46210 | U38: Stone
F39: ZANIERI | H39: FABRIC | I39: ALBANO MORGADO | J39: 35 15370 I 017 | K39: 13.8 | L39: 46127 | U39: Surseekur
F40: ? | H40: FABRIC | I40: ALBANO MORGADO | J40: 35 15955 R 001 | K40: 12 | L40: 46151 | U40: Terra
F41: OLMETEX | H41: FABRIC | I41: ALBANO MORGADO | J41: 35 16100 I 028 | K41: 12.8 | L41: 46154 | U41: Vert
F42: J.GUERRA | H42: FABRIC | I42: ALBANO MORGADO | J42: 35 16640 I 001 | K42: 14.35 | L42: 46127 | U42: Straw
...
